0.1
0
0
-0.1
625250.2023881
4641089.4276945
