0.1
0
0
-0.1
612053.248594921
4761766.73010757
