0.1
0
0
-0.1
613751.449766599
4761794.72929051
