0.1
0
0
-0.1
614600.553603433
4761809.04238222
