0.1
0
0
-0.1
614639.421310282
4759495.55951001
