0.1
0
0
-0.1
592688.938147121
4749327.98838277
