0.1
0
0
-0.1
634979.325668592
4762181.34361662
