0.1
0
0
-0.1
635013.653722568
4760446.27928597
