0.1
0
0
-0.1
633326.258080816
4759834.49937098
