0.1
0
0
-0.1
632510.506271682
4758083.02530321
