0.1
0
0
-0.1
634198.406662184
4758694.40153969
