0.1
0
0
-0.1
635047.969272533
4758711.21834455
