0.1
0
0
-0.1
636747.095197221
4758744.85029435
