0.1
0
0
-0.1
635920.550703576
4757571.33154407
