0.1
0
0
-0.1
634073.311820433
4765056.45650734
