0.1
0
0
-0.1
632409.48154733
4763288.28667241
