0.1
0
0
-0.1
634084.688980195
4764478.06449073
