0.1
0
0
-0.1
609051.873503404
4682467.54303241
