0.1
0
0
-0.1
608210.900969477
4681297.52323028
