0.1
0
0
-0.1
609938.005873583
4680746.11506894
