0.1
0
0
-0.1
610815.390222679
4679602.9817881
