0.1
0
0
-0.1
612543.131915737
4679052.20709222
