0.1
0
0
-0.1
611693.060611376
4678460.05504519
