0.1
0
0
-0.1
632053.937988954
4646997.62112377
