0.1
0
0
-0.1
632917.204878732
4647013.77146818
