0.1
0
0
-0.1
624304.916629525
4645700.55514724
