0.1
0
0
-0.1
624315.093581851
4645122.2765396
