0.1
0
0
-0.1
625178.570344799
4645137.38276939
