0.1
0
0
-0.1
628642.985479966
4644620.97574477
