0.1
0
0
-0.1
629474.744579809
4646371.55111038
