0.1
0
0
-0.1
631201.408814902
4646403.41030088
