0.1
0
0
-0.1
629485.3401254
4645793.26875455
