0.1
0
0
-0.1
631212.143576526
4645825.13220769
