0.1
0
0
-0.1
632075.547284771
4645841.06872121
