0.1
0
0
-0.1
630359.40647891
4645230.91958077
