0.1
0
0
-0.1
632086.351159132
4645262.79029762
