0.1
0
0
-0.1
625209.283201221
4643402.54373823
