0.1
0
0
-0.1
627800.330851028
4643448.8971274
