0.1
0
0
-0.1
626083.272405159
4642839.57676273
