0.1
0
0
-0.1
628685.019169
4642307.85281565
