0.1
0
0
-0.1
632107.938733747
4644106.22333865
