0.1
0
0
-0.1
630412.652556292
4642339.51254977
