0.1
0
0
-0.1
629559.411771542
4641745.29942522
