0.1
0
0
-0.1
624140.147811937
4750983.29297069
