0.1
0
0
-0.1
625841.127686365
4751014.45426886
