0.1
0
0
-0.1
628381.759266549
4751640.16564527
