0.1
0
0
-0.1
625862.386171708
4749857.74923689
