0.1
0
0
-0.1
627552.889216146
4750467.47086619
