0.1
0
0
-0.1
627585.208278598
4748732.42178667
