0.1
0
0
-0.1
623091.611154069
4761956.78758312
